BEGIN:VCALENDAR
VERSION:2.0
PRODID:-//MY DEEN - ECPv6.2.9//NONSGML v1.0//EN
CALSCALE:GREGORIAN
METHOD:PUBLISH
X-ORIGINAL-URL:https://www.mydeen.org
X-WR-CALDESC:Events for MY DEEN
REFRESH-INTERVAL;VALUE=DURATION:PT1H
X-Robots-Tag:noindex
X-PUBLISHED-TTL:PT1H
BEGIN:VTIMEZONE
TZID:America/Los_Angeles
BEGIN:DAYLIGHT
TZOFFSETFROM:-0800
TZOFFSETTO:-0700
TZNAME:PDT
DTSTART:20250309T100000
END:DAYLIGHT
BEGIN:STANDARD
TZOFFSETFROM:-0700
TZOFFSETTO:-0800
TZNAME:PST
DTSTART:20251102T090000
END:STANDARD
END:VTIMEZONE
BEGIN:VEVENT
DTSTART;TZID=America/Los_Angeles:20250711T183000
DTEND;TZID=America/Los_Angeles:20250711T220000
DTSTAMP:20260421T225010
CREATED:20250711T090510Z
LAST-MODIFIED:20250711T091606Z
UID:18175-1752258600-1752271200@www.mydeen.org
SUMMARY:Hajji Dinner and Special Family Night
DESCRIPTION:Welcome Back From Hajj – Special Family Night & Dinner\nJoin us for a heartwarming evening as we welcome back our community members who have recently returned from their blessed journey of Hajj. This special family night will take place on Friday\, July 11th\, 2025\, beginning at 6:30 pm\, at MY DEEN\, 1284 E Bullard Ave\, Fresno\, CA 93710. \nCome together for a joyful night of reflection\, community bonding\, and celebration. Enjoy a delicious dinner\, hear inspiring Hajj stories from local pilgrims\, and take part in an uplifting program designed to honor this sacred milestone. \nAll are welcome – bring your family and friends as we reconnect in the spirit of unity and faith.
URL:https://www.mydeen.org/event/hajji-dinner-and-special-family-night/
LOCATION:my deen\, 1284 E Bullard Ave\, Fresno\, CA\, 93710\, United States
ATTACH;FMTTYPE=image/jpeg:https://www.mydeen.org/wp-content/uploads/2025/07/hajji-events.jpg
END:VEVENT
END:VCALENDAR