BEGIN:VCALENDAR
VERSION:2.0
PRODID:-//MY DEEN - ECPv6.2.9//NONSGML v1.0//EN
CALSCALE:GREGORIAN
METHOD:PUBLISH
X-WR-CALNAME:MY DEEN
X-ORIGINAL-URL:https://www.mydeen.org
X-WR-CALDESC:Events for MY DEEN
REFRESH-INTERVAL;VALUE=DURATION:PT1H
X-Robots-Tag:noindex
X-PUBLISHED-TTL:PT1H
BEGIN:VTIMEZONE
TZID:America/Los_Angeles
BEGIN:DAYLIGHT
TZOFFSETFROM:-0800
TZOFFSETTO:-0700
TZNAME:PDT
DTSTART:20250309T100000
END:DAYLIGHT
BEGIN:STANDARD
TZOFFSETFROM:-0700
TZOFFSETTO:-0800
TZNAME:PST
DTSTART:20251102T090000
END:STANDARD
END:VTIMEZONE
BEGIN:VEVENT
DTSTART;TZID=America/Los_Angeles:20250712T100000
DTEND;TZID=America/Los_Angeles:20250712T150000
DTSTAMP:20260421T224813
CREATED:20250711T115807Z
LAST-MODIFIED:20250711T150218Z
UID:18207-1752314400-1752332400@www.mydeen.org
SUMMARY:AIA School at MYDEEN Open Day & Enrollment
DESCRIPTION:Exciting news from AIA School located at the MYDEEN Islamic Center! Serving TK\, Kindergarten\, and Grades 1–6\, AIA is committed to nurturing young minds with a strong foundation in both academics and faith. \n📅 Open Day: Saturday\, July 12🕙 10:00 AM – 3:00 PM📍 MYDEEN Islamic Center1284 E Bullard Ave\, Fresno\, CA 93710 \nThis is the perfect opportunity to meet staff\, tour classrooms\, and learn more about our enriching curriculum. \n🎓 Enrollment is Still OpenApply now: https://aia-islamic.school/how-to-apply/ \n📱 Stay ConnectedJoin our WhatsApp Group: Click here to join \n💬 Have Questions?Message us directly: https://wa.me/15592746671 \nLet your child grow in a nurturing\, faith-based educational environment—Building Faith\, Shaping Leaders.
URL:https://www.mydeen.org/event/aia-school-at-mydeen-open-day-enrollment-2/
LOCATION:my deen\, 1284 E Bullard Ave\, Fresno\, CA\, 93710\, United States
ATTACH;FMTTYPE=image/jpeg:https://www.mydeen.org/wp-content/uploads/2025/07/AIA-SHCOOL.jpg
END:VEVENT
BEGIN:VEVENT
DTSTART;TZID=America/Los_Angeles:20250712T180000
DTEND;TZID=America/Los_Angeles:20250712T210000
DTSTAMP:20260421T224813
CREATED:20250711T093126Z
LAST-MODIFIED:20250711T093126Z
UID:18193-1752343200-1752354000@www.mydeen.org
SUMMARY:One Ummah MCA Annual Banquet
DESCRIPTION:One Ummah: MCA Annual Banquet\nJoin us for a meaningful evening of unity\, inspiration\, and community at the MCA Annual Banquet. This family-friendly event will take place on Saturday\, July 12th\, from 6–9 PM at MyDeen Islamic Center\, 1284 E Bullard Ave\, Fresno\, CA 93710. \nWe’re honored to welcome distinguished guest speakers: \n\n\nDr. El Sayed Ramadan \n\n\nDr. Mohamed Abbas \n\n\nShaykh Tariq Musleh \n\n\nCome hear uplifting messages\, connect with fellow community members\, and enjoy a delicious dinner. All are welcome—bring your family and friends for an evening that strengthens our bonds as One Ummah.
URL:https://www.mydeen.org/event/one-ummah-mca-annual-banquet/
LOCATION:my deen\, 1284 E Bullard Ave\, Fresno\, CA\, 93710\, United States
ATTACH;FMTTYPE=image/jpeg:https://www.mydeen.org/wp-content/uploads/2025/07/MCA-event.jpg
END:VEVENT
END:VCALENDAR