BEGIN:VCALENDAR
VERSION:2.0
PRODID:-//MY DEEN - ECPv6.2.9//NONSGML v1.0//EN
CALSCALE:GREGORIAN
METHOD:PUBLISH
X-WR-CALNAME:MY DEEN
X-ORIGINAL-URL:https://www.mydeen.org
X-WR-CALDESC:Events for MY DEEN
REFRESH-INTERVAL;VALUE=DURATION:PT1H
X-Robots-Tag:noindex
X-PUBLISHED-TTL:PT1H
BEGIN:VTIMEZONE
TZID:America/Los_Angeles
BEGIN:DAYLIGHT
TZOFFSETFROM:-0800
TZOFFSETTO:-0700
TZNAME:PDT
DTSTART:20260308T100000
END:DAYLIGHT
BEGIN:STANDARD
TZOFFSETFROM:-0700
TZOFFSETTO:-0800
TZNAME:PST
DTSTART:20261101T090000
END:STANDARD
END:VTIMEZONE
BEGIN:VEVENT
DTSTART;TZID=America/Los_Angeles:20260609T110000
DTEND;TZID=America/Los_Angeles:20260709T133000
DTSTAMP:20260424T085510
CREATED:20260423T114249Z
LAST-MODIFIED:20260423T215657Z
UID:18689-1781002800-1783603800@www.mydeen.org
SUMMARY:MyDeen Kids Camp 2026
DESCRIPTION:Developing Character & Skills with Imam Thabet and Team\nJoin us for a month of growth\, learning\, and fun! Our summer camp is designed to help children build a strong foundation in Islamic values while engaging in exciting modern activities. \nEvent Details\n\nDates: June 9 – July 9\, 2026\nDays: Tuesdays & Thursdays\nTime: 11:00 AM – 1:30 PM\nLocation: 1284 E Bullard Ave\, Fresno\, CA 93710\nTarget Age Group: 6–12 years old\n\nActivities & Curriculum\nWe offer a balanced curriculum that blends spiritual growth with hands-on skill building: \n\nQuran & Islamic Studies: Meaningful lessons in a supportive environment.\nStorytelling: Engaging narratives to build character.\nCreative Arts: Arts & Crafts sessions.\nSTEM & Play: Robotics\, Sports\, and interactive Games.\n\nRegistration & Fees\nSecure your child’s spot today! \n\nPer Child: $150\nSibling Discount: $120 per sibling
URL:https://www.mydeen.org/event/mydeen-kids-camp-2026/
ATTACH;FMTTYPE=image/webp:https://www.mydeen.org/wp-content/uploads/2026/04/kidscamp.webp
END:VEVENT
END:VCALENDAR