BEGIN:VCALENDAR
VERSION:2.0
PRODID:-//MY DEEN - ECPv6.2.9//NONSGML v1.0//EN
CALSCALE:GREGORIAN
METHOD:PUBLISH
X-ORIGINAL-URL:https://www.mydeen.org
X-WR-CALDESC:Events for MY DEEN
REFRESH-INTERVAL;VALUE=DURATION:PT1H
X-Robots-Tag:noindex
X-PUBLISHED-TTL:PT1H
BEGIN:VTIMEZONE
TZID:America/Los_Angeles
BEGIN:DAYLIGHT
TZOFFSETFROM:-0800
TZOFFSETTO:-0700
TZNAME:PDT
DTSTART:20190310T100000
END:DAYLIGHT
BEGIN:STANDARD
TZOFFSETFROM:-0700
TZOFFSETTO:-0800
TZNAME:PST
DTSTART:20191103T090000
END:STANDARD
BEGIN:DAYLIGHT
TZOFFSETFROM:-0800
TZOFFSETTO:-0700
TZNAME:PDT
DTSTART:20200308T100000
END:DAYLIGHT
BEGIN:STANDARD
TZOFFSETFROM:-0700
TZOFFSETTO:-0800
TZNAME:PST
DTSTART:20201101T090000
END:STANDARD
BEGIN:DAYLIGHT
TZOFFSETFROM:-0800
TZOFFSETTO:-0700
TZNAME:PDT
DTSTART:20210314T100000
END:DAYLIGHT
BEGIN:STANDARD
TZOFFSETFROM:-0700
TZOFFSETTO:-0800
TZNAME:PST
DTSTART:20211107T090000
END:STANDARD
BEGIN:DAYLIGHT
TZOFFSETFROM:-0800
TZOFFSETTO:-0700
TZNAME:PDT
DTSTART:20220313T100000
END:DAYLIGHT
BEGIN:STANDARD
TZOFFSETFROM:-0700
TZOFFSETTO:-0800
TZNAME:PST
DTSTART:20221106T090000
END:STANDARD
BEGIN:DAYLIGHT
TZOFFSETFROM:-0800
TZOFFSETTO:-0700
TZNAME:PDT
DTSTART:20230312T100000
END:DAYLIGHT
BEGIN:STANDARD
TZOFFSETFROM:-0700
TZOFFSETTO:-0800
TZNAME:PST
DTSTART:20231105T090000
END:STANDARD
BEGIN:DAYLIGHT
TZOFFSETFROM:-0800
TZOFFSETTO:-0700
TZNAME:PDT
DTSTART:20240310T100000
END:DAYLIGHT
BEGIN:STANDARD
TZOFFSETFROM:-0700
TZOFFSETTO:-0800
TZNAME:PST
DTSTART:20241103T090000
END:STANDARD
BEGIN:DAYLIGHT
TZOFFSETFROM:-0800
TZOFFSETTO:-0700
TZNAME:PDT
DTSTART:20250309T100000
END:DAYLIGHT
BEGIN:STANDARD
TZOFFSETFROM:-0700
TZOFFSETTO:-0800
TZNAME:PST
DTSTART:20251102T090000
END:STANDARD
TZID:UTC
BEGIN:STANDARD
TZOFFSETFROM:+0000
TZOFFSETTO:+0000
TZNAME:UTC
DTSTART:20190101T000000
END:STANDARD
END:VTIMEZONE
BEGIN:VEVENT
DTSTART;VALUE=DATE:20251118
DTEND;VALUE=DATE:20251130
DTSTAMP:20260421T041451
CREATED:20250713T025016Z
LAST-MODIFIED:20250713T140014Z
UID:18287-1763424000-1764460799@www.mydeen.org
SUMMARY:Thanksgiving Umrah with Istanbul
DESCRIPTION:Thanksgiving Umrah with Istanbul – Tawasaw Institute\nEmbark on a spiritually uplifting journey this November with Tawasaw Institute’s Thanksgiving Umrah\, in partnership with MYDEEN Islamic Center\, under the guidance of Shaykh Elbakri and Imam Thabet. \n🛫 Departure from San Francisco (SFO): November 18\, 2025🛬 Return to the USA: November 29\, 2025✈️ Airline: Turkish Airlines \n\n🕌 Trip Highlights:\n\n\n4 Nights in Madinah at Dallah Taiba (Premium Room) \n\n\n3 Nights in Makkah at Movenpick Hajar Tower \n\n\n2 Nights in Istanbul with a complimentary hotel from Turkish Airlines \n\n\nDaily breakfast included \n\n\nFull ground transportation on luxury VIP buses \n\n\nGuided Ziyarah tours in Madinah & Makkah \n\n\nHistorical tour in Istanbul \n\n\nHigh-speed train from Madinah to Makkah \n\n\n1 Grand Dinner in both Madinah & Makkah \n\n\nMuseum tour in Madinah \n\n\nVisa processing with health insurance \n\n\n\n💵 Pricing:\n\n\n$2\,695 per person (Quad Room – 4 beds) \n\n\n$2\,895 per person (Triple Room – 3 beds) \n\n\n$2\,995 per person (Double Room – 2 beds)🎉 $108 discount if you already have a Saudi visa \n\n\n\n📲 View full details & register:👉 www.roadtomakkah.com/tawasaw-november \n📧 Email: Yusra@tawasaw.org📞 Call/Text: 408-837-3325 \nLet this be a journey of faith\, learning\, and unforgettable spiritual connection. Limited spots available—register now!
URL:https://www.mydeen.org/event/thanksgiving-umrah-with-istanbul/
LOCATION:CA
ATTACH;FMTTYPE=image/jpeg:https://www.mydeen.org/wp-content/uploads/2025/07/umrah.jpeg
END:VEVENT
BEGIN:VEVENT
DTSTART;VALUE=DATE:20251004
DTEND;VALUE=DATE:20251005
DTSTAMP:20260421T041451
CREATED:20250721T170838Z
LAST-MODIFIED:20250820T025758Z
UID:18314-1759536000-1759622399@www.mydeen.org
SUMMARY:Central California Annual Conference 2025
DESCRIPTION:Theme: Leading With Purpose📅 Saturday\, October 4\, 2025🕛 12:00 PM – 9:00 PM📍 MYDEEN Islamic Center1284 E Bullard Ave\, Fresno\, CA 93710🌐 www.mydeen.org \nJoin us for a full-day\, multi-masjid conference bringing together renowned scholars and speakers for a\npowerful experience of inspiration\, education\, and community connection. \n🎤 Featured Speakers: \n\n\nUstadha Dalia Mogahed \n\n\nSheikh Yasir Birjas \n\n\nQari Ibrahim Bakeer \n\n\nSheikh Alauddin El-Bakri \n\n\nDr. ElSayed Ramadan \n\n\n🎉 Event Highlights: \n\n\nInspiring Talks & Panel Discussions \n\n\nEngaging Q&A panels \n\n\nNasheed Performances \n\n\nFood & Coffee Vendors \n\n\nKids’ Activities & Babysitting \n\n\nOpen to all community members \n\n\n🎟 Early Bird Registration ends: September 28\, 2025📸 Follow us on Instagram: @MYDEEN_MAIN \n📲 Register Here \n 
URL:https://www.mydeen.org/event/central-california-annual-conference-2025/
LOCATION:my deen\, 1284 E Bullard Ave\, Fresno\, CA\, 93710\, United States
ATTACH;FMTTYPE=image/jpeg:https://www.mydeen.org/wp-content/uploads/2025/08/islamic-confercne.jpeg
END:VEVENT
BEGIN:VEVENT
DTSTART;TZID=America/Los_Angeles:20250809T180000
DTEND;TZID=America/Los_Angeles:20250809T200000
DTSTAMP:20260421T041451
CREATED:20250728T034636Z
LAST-MODIFIED:20250728T034927Z
UID:18393-1754762400-1754769600@www.mydeen.org
SUMMARY:THE IHSAN NETWORK
DESCRIPTION:💼 You’re Invited!\nJoin us for the official launch of The Ihsan Network – a dynamic space for Muslim professionals\nand entrepreneurs to connect\, grow\, and thrive. \n🌟 What to Expect:\n🤝 Powerful networking with like-minded leaders & professionals\n📈 Opportunities for mentorship\, business growth\, and collaboration\n🍽️ Dinner will be served! \n📅 Date: Saturday\, August 9\, 2025\n🕕 Time: 6:00 PM – 8:00 PM\n📍 Location: My Deen\, 1284 E Bullard Ave\, Fresno\, CA 93710 \n🎟️ Limited Spots – Registration Required!\n🔗 Reserve your spot now: https://forms.gle/YmZAqUmBA5CKZBpX6 \nLet’s build a community rooted in Ihsan – excellence in faith and professionalism.\nWe can’t wait to welcome you!
URL:https://www.mydeen.org/event/the-ihsan-network/
LOCATION:my deen\, 1284 E Bullard Ave\, Fresno\, CA\, 93710\, United States
CATEGORIES:young professionals
ATTACH;FMTTYPE=image/jpeg:https://www.mydeen.org/wp-content/uploads/2025/07/2522ac1c-24e0-464b-80e0-112841cf6368.jpg
END:VEVENT
BEGIN:VEVENT
DTSTART;TZID=America/Los_Angeles:20250726T170000
DTEND;TZID=America/Los_Angeles:20250726T200000
DTSTAMP:20260421T041451
CREATED:20250711T112723Z
LAST-MODIFIED:20250711T112723Z
UID:18199-1753549200-1753560000@www.mydeen.org
SUMMARY:Unseen Signs of the Day of Judgement
DESCRIPTION:A Special Evening with Shaykh Majed Mahmoud \nJoin us for a powerful night of reflection and knowledge as Shaykh Majed Mahmoud explores the Signs of the Day of Judgement in this exclusive AlMaghrib Institute event titled UNSEEN. \n🗓 Saturday\, July 26🕔 5:00 PM – 8:00 PM📍 MyDeen Islamic Center1284 E Bullard Ave\, Fresno\, CA 93710 \nThis one-night seminar will take you on a spiritual journey through the prophetic signs that precede the Last Day. Prepare your heart\, deepen your understanding\, and gain clarity about what lies ahead. \n🎟 Register now at: almaghrib.org/unseen \nHosted by AlMaghrib Institute in partnership with MyDeen and MCA Fresno. Open to all community members—don’t miss this impactful event!
URL:https://www.mydeen.org/event/unseen-signs-of-the-day-of-judgement/
LOCATION:my deen\, 1284 E Bullard Ave\, Fresno\, CA\, 93710\, United States
ATTACH;FMTTYPE=image/jpeg:https://www.mydeen.org/wp-content/uploads/2025/07/unseen.jpg
END:VEVENT
BEGIN:VEVENT
DTSTART;TZID=America/Los_Angeles:20250717T110000
DTEND;TZID=America/Los_Angeles:20250717T150000
DTSTAMP:20260421T041451
CREATED:20250711T094626Z
LAST-MODIFIED:20250711T094626Z
UID:18196-1752750000-1752764400@www.mydeen.org
SUMMARY:Join MGN\, Change the game
DESCRIPTION:Join MGN – Muslim Gamechangers Network Training\nAre you a student between the ages of 13 and 19? Ready to make a real difference? \nJoin the Muslim Gamechangers Network (MGN) for a transformative social justice leadership training designed specifically for high school students. This program empowers young Muslims to become changemakers in their communities through critical discussions\, leadership skills\, and action-based learning. \n🗓 Thursday\, July 17th\, 2025🕚 11:00 AM – 3:00 PM📍 MyDeen Islamic Center1284 E Bullard Ave\, Fresno\, CA 93710 \nThis is a unique opportunity to gain skills\, connect with like-minded peers\, and begin your journey as a community leader. \n🔗 Register Here📲 Or scan the QR code on the flyer \nIn partnership with CAIR California and MyDeen.
URL:https://www.mydeen.org/event/join-mgn-change-the-game/
LOCATION:my deen\, 1284 E Bullard Ave\, Fresno\, CA\, 93710\, United States
ATTACH;FMTTYPE=image/jpeg:https://www.mydeen.org/wp-content/uploads/2025/07/Join-Mgn.jpg
END:VEVENT
BEGIN:VEVENT
DTSTART;TZID=America/Los_Angeles:20250712T180000
DTEND;TZID=America/Los_Angeles:20250712T210000
DTSTAMP:20260421T041451
CREATED:20250711T093126Z
LAST-MODIFIED:20250711T093126Z
UID:18193-1752343200-1752354000@www.mydeen.org
SUMMARY:One Ummah MCA Annual Banquet
DESCRIPTION:One Ummah: MCA Annual Banquet\nJoin us for a meaningful evening of unity\, inspiration\, and community at the MCA Annual Banquet. This family-friendly event will take place on Saturday\, July 12th\, from 6–9 PM at MyDeen Islamic Center\, 1284 E Bullard Ave\, Fresno\, CA 93710. \nWe’re honored to welcome distinguished guest speakers: \n\n\nDr. El Sayed Ramadan \n\n\nDr. Mohamed Abbas \n\n\nShaykh Tariq Musleh \n\n\nCome hear uplifting messages\, connect with fellow community members\, and enjoy a delicious dinner. All are welcome—bring your family and friends for an evening that strengthens our bonds as One Ummah.
URL:https://www.mydeen.org/event/one-ummah-mca-annual-banquet/
LOCATION:my deen\, 1284 E Bullard Ave\, Fresno\, CA\, 93710\, United States
ATTACH;FMTTYPE=image/jpeg:https://www.mydeen.org/wp-content/uploads/2025/07/MCA-event.jpg
END:VEVENT
BEGIN:VEVENT
DTSTART;TZID=America/Los_Angeles:20250712T100000
DTEND;TZID=America/Los_Angeles:20250712T150000
DTSTAMP:20260421T041451
CREATED:20250711T115807Z
LAST-MODIFIED:20250711T150218Z
UID:18207-1752314400-1752332400@www.mydeen.org
SUMMARY:AIA School at MYDEEN Open Day & Enrollment
DESCRIPTION:Exciting news from AIA School located at the MYDEEN Islamic Center! Serving TK\, Kindergarten\, and Grades 1–6\, AIA is committed to nurturing young minds with a strong foundation in both academics and faith. \n📅 Open Day: Saturday\, July 12🕙 10:00 AM – 3:00 PM📍 MYDEEN Islamic Center1284 E Bullard Ave\, Fresno\, CA 93710 \nThis is the perfect opportunity to meet staff\, tour classrooms\, and learn more about our enriching curriculum. \n🎓 Enrollment is Still OpenApply now: https://aia-islamic.school/how-to-apply/ \n📱 Stay ConnectedJoin our WhatsApp Group: Click here to join \n💬 Have Questions?Message us directly: https://wa.me/15592746671 \nLet your child grow in a nurturing\, faith-based educational environment—Building Faith\, Shaping Leaders.
URL:https://www.mydeen.org/event/aia-school-at-mydeen-open-day-enrollment-2/
LOCATION:my deen\, 1284 E Bullard Ave\, Fresno\, CA\, 93710\, United States
ATTACH;FMTTYPE=image/jpeg:https://www.mydeen.org/wp-content/uploads/2025/07/AIA-SHCOOL.jpg
END:VEVENT
BEGIN:VEVENT
DTSTART;TZID=America/Los_Angeles:20250711T183000
DTEND;TZID=America/Los_Angeles:20250711T220000
DTSTAMP:20260421T041451
CREATED:20250711T090510Z
LAST-MODIFIED:20250711T091606Z
UID:18175-1752258600-1752271200@www.mydeen.org
SUMMARY:Hajji Dinner and Special Family Night
DESCRIPTION:Welcome Back From Hajj – Special Family Night & Dinner\nJoin us for a heartwarming evening as we welcome back our community members who have recently returned from their blessed journey of Hajj. This special family night will take place on Friday\, July 11th\, 2025\, beginning at 6:30 pm\, at MY DEEN\, 1284 E Bullard Ave\, Fresno\, CA 93710. \nCome together for a joyful night of reflection\, community bonding\, and celebration. Enjoy a delicious dinner\, hear inspiring Hajj stories from local pilgrims\, and take part in an uplifting program designed to honor this sacred milestone. \nAll are welcome – bring your family and friends as we reconnect in the spirit of unity and faith.
URL:https://www.mydeen.org/event/hajji-dinner-and-special-family-night/
LOCATION:my deen\, 1284 E Bullard Ave\, Fresno\, CA\, 93710\, United States
ATTACH;FMTTYPE=image/jpeg:https://www.mydeen.org/wp-content/uploads/2025/07/hajji-events.jpg
END:VEVENT
BEGIN:VEVENT
DTSTART;TZID=America/Los_Angeles:20191230T170000
DTEND;TZID=America/Los_Angeles:20191230T180000
DTSTAMP:20260421T041451
CREATED:20191225T222305Z
LAST-MODIFIED:20191225T224048Z
UID:16625-1577725200-1577728800@www.mydeen.org
SUMMARY:Tajweed Class
DESCRIPTION:
URL:https://www.mydeen.org/event/tajweed-class/
LOCATION:my deen\, 1284 E Bullard Ave\, Fresno\, CA\, 93710\, United States
CATEGORIES:Education
ATTACH;FMTTYPE=image/jpeg:https://www.mydeen.org/wp-content/uploads/2019/12/Tajweed-Class.jpg
END:VEVENT
BEGIN:VEVENT
DTSTART;VALUE=DATE:20190816
DTEND;VALUE=DATE:20190817
DTSTAMP:20260421T041451
CREATED:20160701T070000Z
LAST-MODIFIED:20160701T070000Z
UID:10792-1565913600-1565999999@www.mydeen.org
SUMMARY:Hajj Seminar\, Traditions and Rituals
DESCRIPTION:Cras dapibus ullamcorper dictum. Vivamus nec erat placerat felis scelerisque porttitor in ac turpis. In nec imperdiet turpis. Suspendisse quis orci ut orci pulvinar eleifend. Nulla eu mattis ipsum. Integer eget sagittis nulla. Praesent consectetur lacus et maximus eleifend. Integer non lacus dui. Mauris tortor diam\, laoreet quis commodo vitae\, sodales vel augue.| Sed rutrum\, libero non pretium tristique\, arcu mi sollicitudin ex\, quis venenatis orci tellus vel dolor. Donec gravida\, dolor ut auctor facilisis\, enim dolor pellentesque lectus\, nec vehicula nibh risus ac leo. Mauris volutpat aliquam tellus nec rhoncus. Aliquam et nibh pulvinar\, sodales nibh et\, pretium urna. Vivamus quam augue\, maximus in consequat imperdiet\, iaculis non nibh. Aliquam erat volutpat. Curabitur venenatis massa sed lacus tristique\, non auctor nisl sodales. Sed ultricies lacus ut libero faucibus fringilla. Ut nisi tellus\, posuere vel mattis nec\, convallis a metus. Nullam elementum molestie felis nec lobortis. Cras at justo eu elit semper tempor sed quis orci. In risus magna\, malesuada vel elementum ut\, finibus et nunc. \n 
URL:https://www.mydeen.org/event/hajj-seminar-traditions-and-rituals/
LOCATION:Central Park\, Brooklyn\, NY 10036\, New York\, AK\, United States
CATEGORIES:Workshop
ATTACH;FMTTYPE=image/jpeg:https://www.mydeen.org/wp-content/uploads/2019/01/grey_01.jpg
ORGANIZER;CN="Thabet Anani":MAILTO:thabet_04@hotmail.com
END:VEVENT
BEGIN:VEVENT
DTSTART;VALUE=DATE:20190712
DTEND;VALUE=DATE:20190713
DTSTAMP:20260421T041451
CREATED:20160713T070000Z
LAST-MODIFIED:20160713T070000Z
UID:10801-1562889600-1562975999@www.mydeen.org
SUMMARY:An Evening with Dr. Ghafran Bashir
DESCRIPTION:Cras dapibus ullamcorper dictum. Vivamus nec erat placerat felis scelerisque porttitor in ac turpis. In nec imperdiet turpis. Suspendisse quis orci ut orci pulvinar eleifend. Nulla eu mattis ipsum. Integer eget sagittis nulla. Praesent consectetur lacus et maximus eleifend. Integer non lacus dui. Mauris tortor diam\, laoreet quis commodo vitae\, sodales vel augue.| Sed rutrum\, libero non pretium tristique\, arcu mi sollicitudin ex\, quis venenatis orci tellus vel dolor. Donec gravida\, dolor ut auctor facilisis\, enim dolor pellentesque lectus\, nec vehicula nibh risus ac leo. Mauris volutpat aliquam tellus nec rhoncus. Aliquam et nibh pulvinar\, sodales nibh et\, pretium urna. Vivamus quam augue\, maximus in consequat imperdiet\, iaculis non nibh. Aliquam erat volutpat. Curabitur venenatis massa sed lacus tristique\, non auctor nisl sodales. Sed ultricies lacus ut libero faucibus fringilla. Ut nisi tellus\, posuere vel mattis nec\, convallis a metus. Nullam elementum molestie felis nec lobortis. Cras at justo eu elit semper tempor sed quis orci. In risus magna\, malesuada vel elementum ut\, finibus et nunc. \n 
URL:https://www.mydeen.org/event/an-evening-with-dr-ghafran-bashir/
LOCATION:Central Park\, Brooklyn\, NY 10036\, New York\, AK\, United States
CATEGORIES:Workshop
ATTACH;FMTTYPE=image/jpeg:https://www.mydeen.org/wp-content/uploads/2019/01/grey_06.jpg
ORGANIZER;CN="Thabet Anani":MAILTO:thabet_04@hotmail.com
END:VEVENT
BEGIN:VEVENT
DTSTART;VALUE=DATE:20190604
DTEND;VALUE=DATE:20190605
DTSTAMP:20260421T041451
CREATED:20160718T070000Z
LAST-MODIFIED:20160718T070000Z
UID:10803-1559606400-1559692799@www.mydeen.org
SUMMARY:Eid al-Fitr One of the Most Important Annual Festival
DESCRIPTION:Cras dapibus ullamcorper dictum. Vivamus nec erat placerat felis scelerisque porttitor in ac turpis. In nec imperdiet turpis. Suspendisse quis orci ut orci pulvinar eleifend. Nulla eu mattis ipsum. Integer eget sagittis nulla. Praesent consectetur lacus et maximus eleifend. Integer non lacus dui. Mauris tortor diam\, laoreet quis commodo vitae\, sodales vel augue.| Sed rutrum\, libero non pretium tristique\, arcu mi sollicitudin ex\, quis venenatis orci tellus vel dolor. Donec gravida\, dolor ut auctor facilisis\, enim dolor pellentesque lectus\, nec vehicula nibh risus ac leo. Mauris volutpat aliquam tellus nec rhoncus. Aliquam et nibh pulvinar\, sodales nibh et\, pretium urna. Vivamus quam augue\, maximus in consequat imperdiet\, iaculis non nibh. Aliquam erat volutpat. Curabitur venenatis massa sed lacus tristique\, non auctor nisl sodales. Sed ultricies lacus ut libero faucibus fringilla. Ut nisi tellus\, posuere vel mattis nec\, convallis a metus. Nullam elementum molestie felis nec lobortis. Cras at justo eu elit semper tempor sed quis orci. In risus magna\, malesuada vel elementum ut\, finibus et nunc. \n 
URL:https://www.mydeen.org/event/eid-al-fitr-one-of-the-most-important-annual-festival/
LOCATION:Central Park\, Brooklyn\, NY 10036\, New York\, AK\, United States
CATEGORIES:Festival
ATTACH;FMTTYPE=image/jpeg:https://www.mydeen.org/wp-content/uploads/2019/01/grey_05.jpg
ORGANIZER;CN="Thabet Anani":MAILTO:thabet_04@hotmail.com
END:VEVENT
BEGIN:VEVENT
DTSTART;VALUE=DATE:20190524
DTEND;VALUE=DATE:20190527
DTSTAMP:20260421T041451
CREATED:20160705T070000Z
LAST-MODIFIED:20160705T070000Z
UID:10800-1558656000-1558915199@www.mydeen.org
SUMMARY:Camping & Activity Trip: Friday 24nd – Sunday 26th May 2019
DESCRIPTION:Cras dapibus ullamcorper dictum. Vivamus nec erat placerat felis scelerisque porttitor in ac turpis. In nec imperdiet turpis. Suspendisse quis orci ut orci pulvinar eleifend. Nulla eu mattis ipsum. Integer eget sagittis nulla. Praesent consectetur lacus et maximus eleifend. Integer non lacus dui. Mauris tortor diam\, laoreet quis commodo vitae\, sodales vel augue.| Sed rutrum\, libero non pretium tristique\, arcu mi sollicitudin ex\, quis venenatis orci tellus vel dolor. Donec gravida\, dolor ut auctor facilisis\, enim dolor pellentesque lectus\, nec vehicula nibh risus ac leo. Mauris volutpat aliquam tellus nec rhoncus. Aliquam et nibh pulvinar\, sodales nibh et\, pretium urna. Vivamus quam augue\, maximus in consequat imperdiet\, iaculis non nibh. Aliquam erat volutpat. Curabitur venenatis massa sed lacus tristique\, non auctor nisl sodales. Sed ultricies lacus ut libero faucibus fringilla. Ut nisi tellus\, posuere vel mattis nec\, convallis a metus. Nullam elementum molestie felis nec lobortis. Cras at justo eu elit semper tempor sed quis orci. In risus magna\, malesuada vel elementum ut\, finibus et nunc. \n 
URL:https://www.mydeen.org/event/camping-and-activity-trip-friday-24nd-sunday-26th-may-2019/
LOCATION:Central Park\, Brooklyn\, NY 10036\, New York\, AK\, United States
CATEGORIES:Trip,Workshop
ATTACH;FMTTYPE=image/jpeg:https://www.mydeen.org/wp-content/uploads/2019/01/grey_04.jpg
ORGANIZER;CN="Thabet Anani":MAILTO:thabet_04@hotmail.com
END:VEVENT
BEGIN:VEVENT
DTSTART;VALUE=DATE:20190505
DTEND;VALUE=DATE:20190506
DTSTAMP:20260421T041451
CREATED:20160726T070000Z
LAST-MODIFIED:20160726T070000Z
UID:10805-1557014400-1557100799@www.mydeen.org
SUMMARY:Beginning of the Ramadan Celebration
DESCRIPTION:Cras dapibus ullamcorper dictum. Vivamus nec erat placerat felis scelerisque porttitor in ac turpis. In nec imperdiet turpis. Suspendisse quis orci ut orci pulvinar eleifend. Nulla eu mattis ipsum. Integer eget sagittis nulla. Praesent consectetur lacus et maximus eleifend. Integer non lacus dui. Mauris tortor diam\, laoreet quis commodo vitae\, sodales vel augue.| Sed rutrum\, libero non pretium tristique\, arcu mi sollicitudin ex\, quis venenatis orci tellus vel dolor. Donec gravida\, dolor ut auctor facilisis\, enim dolor pellentesque lectus\, nec vehicula nibh risus ac leo. Mauris volutpat aliquam tellus nec rhoncus. Aliquam et nibh pulvinar\, sodales nibh et\, pretium urna. Vivamus quam augue\, maximus in consequat imperdiet\, iaculis non nibh. Aliquam erat volutpat. Curabitur venenatis massa sed lacus tristique\, non auctor nisl sodales. Sed ultricies lacus ut libero faucibus fringilla. Ut nisi tellus\, posuere vel mattis nec\, convallis a metus. Nullam elementum molestie felis nec lobortis. Cras at justo eu elit semper tempor sed quis orci. In risus magna\, malesuada vel elementum ut\, finibus et nunc. \n 
URL:https://www.mydeen.org/event/beginning-of-the-ramadan-celebration/
LOCATION:Central Park\, Brooklyn\, NY 10036\, New York\, AK\, United States
CATEGORIES:Traditional holidays
ATTACH;FMTTYPE=image/jpeg:https://www.mydeen.org/wp-content/uploads/2019/01/grey_03.jpg
ORGANIZER;CN="Thabet Anani":MAILTO:thabet_04@hotmail.com
END:VEVENT
BEGIN:VEVENT
DTSTART;VALUE=DATE:20190420
DTEND;VALUE=DATE:20190421
DTSTAMP:20260421T041451
CREATED:20181009T142544Z
LAST-MODIFIED:20181009T142544Z
UID:13228-1555718400-1555804799@www.mydeen.org
SUMMARY:Laylat al-Bara'at (Bara'a Night or Mid-Sha'ban)
DESCRIPTION:Sed rutrum\, libero non pretium tristique\, arcu mi sollicitudin ex\, quis venenatis orci tellus vel dolor. Donec gravida\, dolor ut auctor facilisis\, enim dolor pellentesque lectus\, nec vehicula nibh risus ac leo. Mauris volutpat aliquam tellus nec rhoncus. Aliquam et nibh pulvinar\, sodales nibh et\, pretium urna. Vivamus quam augue\, maximus in consequat imperdiet\, iaculis non nibh. Aliquam erat volutpat. Curabitur venenatis massa sed lacus tristique\, non auctor nisl sodales. Sed ultricies lacus ut libero faucibus fringilla. Ut nisi tellus\, posuere vel mattis nec\, convallis a metus. Nullam elementum molestie felis nec lobortis. Cras at justo eu elit semper tempor sed quis orci. In risus magna\, malesuada vel elementum ut\, finibus et nunc.
URL:https://www.mydeen.org/event/laylat-al-baraat-baraa-night-or-mid-shaban/
LOCATION:Central Park\, Brooklyn\, NY 10036\, New York\, AK\, United States
CATEGORIES:Festival,Traditional holidays
ATTACH;FMTTYPE=image/jpeg:https://www.mydeen.org/wp-content/uploads/2019/01/grey_02.jpg
ORGANIZER;CN="Thabet Anani":MAILTO:thabet_04@hotmail.com
END:VEVENT
END:VCALENDAR